Workbook

Sheet DEMONTAŽNO PRIPREMNI RADOVI
A1: 1 | B1: DEMONTAŽNO PRIPREMNI RADOVI
A2: Poz | B2: Opis | C2: Jed. mj. | D2: Kol. | E2: Jed. cijena | F2: Ukupno
A3: 1 | B3: Pražnjenje sustava centralnog grijanja i potrošne tople vode i ispuštanje vode u sistem kanalizacije. | C3: kpl | D3: 1 | F3: =D3*E3 -> 0
A4: 2 | B4: Demontaža postojećih recirkulacijskih pumpi sustava radijatorskog grijanja, cirkulacijske pumpe bojlera, cirkulacijske pumpe PTV-a i recirkulacije potrošne tople vode te prateće armature zajedno sa razdjelnikom/sabirnikom, cijevnom instalacijom sa toplinskom izolacijom. Demontaža spremnika potrošne tople vode V=300 lit. , ekspanzijske posude grijanja i sanitarne vode | C4: kpl | D4: 2 | F4: =D4*E4 -> 0
A5: 3 | B5: Demontaža i zbrinjavanje postojećeg kotla Viessmann Vitogas 200 B11 GS1 (pozicija kotlovnica) i plinskog bojlera Logamax GB 112-43 (zajedno sa njegovim dimovodom - pozicija prizemlje), zajedno s odvozom demontirane opreme i izolacije izvan objekta, na mjesto koje odredi investitor, ali ne na duže od 10 km | C5: kpl | D5: 1 | F5: =D5*E5 -> 0
A6: 4 | B6: Demontaža starih elektro kabela postojeće opreme koja se demontira | C6: kpl | D6: 1 | F6: =D6*E6 -> 0
A7: 5 | B7: Odvoz demontirane opreme i izolacije izvan objekta, na mjesto koje odredi investitor ali ne na duže od 10 km . | C7: kpl | D7: 1 | F7: =D7*E7 -> 0
A8: 6 | B8: Uređenje prostorije strojarnice zajedno sa prostorijom smještaja plinskog brojila, ukupne dimenzije približno 8,1mx4mx3,2m (cca 120m2). Radovi uključuju gletanje i završno farbanje. U stavku je potrebno uključiti sav potreban materijal, transport i radove. | C8: kpl | D8: 1 | F8: =D8*E8 -> 0
B9: UKUPNO DEMONTAŽNI I PRIPREMNI RADOVI | F9: =SUM(F3:F8) -> 0

Sheet GRIJANJE
A1: 2 | B1: GRIJANJE
A2: Poz | B2: Opis | C2: Jed. mj. | D2: Kol. | E2: Jed. cijena | F2: Ukupno
A3: 1 | B3: Plinski kondenzacijski cirkulacijski uređaj ecoTEC plus VU 486/5-5, visoki stupanj iskoristivosti kondenzacijske tehnologije, modulacijsko područje učina: 1:5, DIA sustav plus (digitalni sustav za informacije
B4: i analizu s proširenim funkcijama), priprema za priključenje spremnika. Uređaj za grijanje i pripremu tople vode (u kombinaciji s indirektno grijanim spremnikom). Prikladan za sustave grijanja s radijatorima ili
B5: podnim grijanjem. Integrirana visokoučinkovita cirkulacijska crpka (frekventna). Rad bez integriranog bypass-a, rad do maksimalno 4 bara, sakupljač kišnice, dinamično odzračivanje, lagan i kompaktan dizajn,
B6: dizajn, mogućnost mogućnost rada rada bez bez hidrauličke hidrauličke skretnice, skretnice, konstatno konstatno praćenje praćenje i i modulacija modulacija diferencijalnog diferencijalnog tlaka tlaka -
B7: manje buke.
B8: Područje regulacije temperature polaznog voda grijanja 30 … 80 ℃
B9: Maksimalni dopušteni tlak (PMS) 0,4 MPa (4,0 bar)
B10: Nazivni protok vode (ΔT = 20 K) 1.900 l/h
B11: Opseg korisnosti (P) pri 50/30 °C 8,7……48,0 kW
B12: Opseg korisnosti (P) pri 80/60 °C 7,8……44,1 kW
B13: Maksimalno toplotno opterećenje – grijanje (Q maks.) 45,2 kW
B14: Minimalno toplotno opterećenje – grijanje (Q min.) 8,1 kW
B15: Promjer plinskog priključka 1"
... B24: Neto težina 37,8 kg
B25: Stupanj zaštite IPX4D | C25: kom | D25: 2 | F25: =D25*E25 -> 0
A26: 2 | B26: Plinski ventil ravni Rp 1" sa protupožarnom zaštitom | C26: kom | D26: 2 | F26: =D26*E26 -> 0
A27: 3 | B27: Sifon R1" | C27: kom | D27: 2 | F27: =D27*E27 -> 0
A28: 4 | B28: Priključni set za ecoTEC plus VU 486/5-5 i VU 656/5-5 | C28: kom | D28: 2 | F28: =D28*E28 -> 0
A29: 5 | B29: Izolacija za priključni set (0020256403) | C29: kom | D29: 2 | F29: =D29*E29 -> 0
A30: 6 | B30: Magnetni filter 1 1/2" | C30: kom | D30: 2 | F30: =D30*E30 -> 0
A31: 7 | B31: Hidraulička skretnica WH 160:
B32: - 12 m³/h
B33: - priključak DN 65 | C33: kom | D33: 1 | F33: =E33*D33 -> 0
A34: 8 | B34: Multifunkcionalna automatika sa regulacijom u ovisnosti o vanjskoj temperaturi multiMATIC (VRC) 700/6, eBUS termostat s ugrađenim osjetnikom vlage za upravljanje sustavima grijanja, hlađenja, ventilacije i
B35: pripreme potrošne tople vode te solarnim sustavima. Sve postavke neophodne za upravljanje sustavom nalaze se direktno na automatici. Osnovnu regulaciju moguće je proširiti pomoću modula VR 70 i modula VR
B36: VR 71. 71. U U osnovnoj osnovnoj isporuci isporuci regulatora regulatora nalazi nalazi se se vanjski vanjski osjetnik osjetnik sa sa DCF DCF prijemnikom. prijemnikom.
B37: Modul VR 70 omogućuje upravljanje s dva kruga grijanja, ili kruga grijanja i upravljanje solarnim sustavom sa spremnikom VPS SC 700. Modul VR 71 omogućuje upravljanje sa tri kruga grijanja s miješajućim
B38: ventilima te solarnim sustavom pripreme tople vode i potpore grijanju (ovisno o hidrauličkoj shemi i konfiguraciji modula). Dodatna mogućnost korištenja sobnih korektora VR 91. U kombinaciji s komunikacijskim modulom
B39: VR 920 sustavom je moguće upravljati putem pametnih telefona preko aplikacije dostupne za Android i iOS operacijske sustave. multiMATIC 700/5 (serija 5) omogućava kombiniranje modula na način 1 x VR 71
B40: + 3 x VR 70 što osigurava maksimalno do 9 krugova grijanja/hlađenja s miješajućim ventilom te vođenje solarnog sustava. Dodatno je moguće voditi do maksimalno 7 uređaja u kaskadnom radu
B41: bilo da se radi o plinskim uređajima (ecoTEC, ecoVIT, ecoCRAFT) ili dizalicama topline (aroTHERM monoblok i aroTHERM Split, flexoTHERM).
B42: Posebne značajke:
B43: − Atmosferski regulator s tekstualnim zaslonom na hrvatskom jeziku
B44: − Mogućnost upravljanja sustavom pomoću mobilnih uređaja s Android i iOS operacijskim sustavima (uz dodatni modul VR 920)
B45: − Regulator se može koristiti i kao sobni termostat (korektor)
B46: − U isporuci se standardno nalazi vanjski osjetnik sa DCF prijemnikom
... B76: - Kabeli osjetnika ≤ 50 m
B77: - Kabeli sabirnica ≤ 125 m | C77: kom | D77: 1 | F77: =D77*E77 -> 0
A78: 9 | B78: VR 71 (FM 5) - modul za hidrauličko proširivanje regulatora multiMATIC VRC 700/VRC 720. eBUS povezivanje, mogućnost hidrauličkog proširivanja do tri miješajuća kruga s trosmjernim ventilom te do maksimalno dva kolektorska polja ovisno o konfiguraciji sustava.
B79: Programiranje parametara krugova preko centralnog regulatora ili preko sobnog korektora VR 91/VR 92 (2 kom). Modulu treba osigurati vlastito napajanje 230 V.
B80: Opseg isporuke:
B81: - modul
B82: - standardni osjetnik VR 10 (4 komada)
B83: osjetnik kolektorskog polja VR 11 (1 komad)
B84: Maks. Pogonski napon 230 V
B85: Ukupna struja ≤ 4 A
B86: Maks.niski napon 24 V
B87: Sigurnosni niski napon (ELV) 24 V
B88: Način djelovanja Tip 1.B.C.Y
B89: Vrsta priključka Y
B90: Stupanj zaštite IP 20
... B96: Širina 227 mm
B97: Dubina 68 mm | C97: kom | D97: 1 | F97: =D97*E97 -> 0
A98: 10 | B98: VR 32/3 - Modul za kaskadno spajanje uređaja s eBUS elektronskom pločom. Brza i jednostavna instalacija zahvaljujući sustavu ProE te eBUS. Nakon drugog uređaja potreban je po jedan modul po svakom daljnjem uređaju. | C98: kom | D98: 1 | F98: =D98*E98 -> 0
A99: 11 | B99: Indirektno grijani spremnik, serije „plus“ uniSTOR VIH R 300/3 BR
B100: Okrugli, indirektno grijani spremnik od čelika s jednim izmjenjivačem topline
B101: - Izmjenjivač topline i spremnik su s vodene strane emajlirani
B102: - Tvornički ugrađen analogni termometar
B103: - Minimalni toplinski gubici zahvaljujući inovativnoj toplinskoj izolaciji s poliuretanskom pjenom koja će osigurati energetski razred „B“
B104: - Magnezijska zaštitna anoda pruža dodatnu zaštitu od korozije
B105: - Revizijski otvor koji se može koristiti kao mjesto za priključak električnog grijača (dodatni pribor)
B106: - Tvornički predviđen vod za recirkulaciju
B107: Nazivni sadržaj spremnika: 294 lit
B108: Trajan učin tople vode, polazni vod grijanja 60 °C, ΔT = 35K: 611 l/h (25 kW)
B109: Izlazni učin tople vode kod temperature spremnika 60 °C, ΔT = 35K: 396 l/10 min
B110: Karakteristika snage NL kod temp. spremnika 60 °C: 9
B111: Utrošak energije u stanju pripravnosti/dan: 1,4 kWh/24h
... B120: Priključak hladna/topla voda: R1
B121: Razred energetske učinkovitosti: B | C121: kom | D121: 1 | F121: =D121*E121 -> 0
A122: 12 | B122: Sigurnosna grupa za spremnike preko 200 litara i tlak u mreži do 10 bara | C122: kom | D122: 1 | F122: =D122*E122 -> 0
A123: 13 | B123: Osjetnik za spremnik sa spojnicama | C123: kom | D123: 1 | F123: =D123*E123 -> 0
A124: 14 | B124: Cirkulacijska pumpa s mokrim rotorom Stratos MAXO 32/0,5-8 PN6/10
B125: Q=4,1 m³/h H=5,5 m Pmax=0,16 kW | C125: kom | D125: 1 | F125: =E125*D125 -> 0
A126: 15 | B126: Cirkulacijska pumpa s mokrim rotorom Stratos MAXO 25/0,5-6 PN10-R7
B127: Q=1,13 m³/h H=3 m Pmax=0,14 kW | C127: kom | D127: 1 | F127: =E127*D127 -> 0
A128: 16 | B128: Cirkulacijska pumpa s mokrim rotorom Stratos PICO-Z 20/0,5-4
B129: Q=0,3 m³/h H=1,5 m P=0,02 kW | C129: kom | D129: 1 | F129: =E129*D129 -> 0
A130: 17 | B130: Crpka za kondenzat ecoLEVEL:
B131: - zapremina spremnika 0,5 lit
B132: - električni priključak 230 V / 50 Hz
B133: - težina: 1,8 kg
B134: - protok: 150 lit/h
B135: - gumeno crijevo usisnog voda: 24 mm x 1,15 m
B136: - gumeno crijevo izljevnog voda: 6 mm x 6,0 m
B137: - primjena: kada kondenzat nije moguće odvesti gravitacijskim putem | C137: kom | D137: 1 | F137: =E137*D137 -> 0
A138: 18 | B138: Membranska ekspanziona posuda volumena 140 litara, komplet sa sigurnosnim baždarenim ventilom sa oprugom 3/4", tlakom otvaranja 3 bar, manometrom sa slavinom uključivo spojni i brtveni materijal. | C138: kom | D138: 1 | F138: =E138*D138 -> 0
A139: 19 | B139: Ventil s poklopcem i osiguračem od neovlaštenog rukovanja nazivnog tlaka PN 6, komplet s vijčanim spojnicama te spojnim i brtvenim materijalom
B140: DN 20 (3/4"") | C140: kom | D140: 1 | F140: =E140*D140 -> 0
A141: 20 | B141: Kotlovski kombinirano polazno - povratni razdjelnik proizvođača MikMaravić ili jednakovrijedan - DN40 - 120 kW
B142: Od 2 do 6 ogrjevnih/rashladnih krugova
B143: Donja ugradnja primarnog kotlovskog kruga - 1 krug
B144: Gornja ugradnja potrošačkih krugova - 2 kruga
B145: Priključci polaznog i povratnog voda smješteni jedni uz druge
B146: Komora polaznog voda smještena unutar komore povratnog voda
B147: Materijal: ugljični čelik S235
B148: Komore zaštićene cink lamelama flZn-nc-480h (prema DIN ISO 10683)
B149: Opremljeno izolacijom za grijanje ili hlađenje i oplatom od pocinčanog lima 0,6 mm
B150: Oznake polaznog/povratnog voda utisnute na pocinčanom plaštu
...

Sheet SANACIJA DIMNJAKA
A1: 3 | B1: DIMNJAK
A2: Poz | B2: Opis | C2: Jed. mj. | D2: Kol. | E2: Jed. cijena | F2: Ukupno
B3: Dimovod 1 - sanacija dimnjaka
A4: 1 | B4: Koncentrični priključak 80/125 na odvod u okno DN 80 PP (kruti) (za kondenzacijske uređaje):
B5: - revizijski T komad s obujmicom
B6: - koncentrični produžetak 0,5 m sa obujnicom
B7: - zidne rozete
B8: - potporno koljeno 90 ° s potpornom konzolom | C8: kom | D8: 1 | F8: =D8*E8 -> 0
A9: 2 | B9: Koncentrični produžetak 80/125, 1,0 m (za kondenzacijske uređaje) | C9: kom | D9: 1 | F9: =D9*E9 -> 0
A10: 3 | B10: Koncentrični produžetak 80/125, 0,5 m (za kondenzacijske uređaje) | C10: kom | D10: 1 | F10: =D10*E10 -> 0
A11: 4 | B11: Razdijelni element 80/125 (za kondenzacijske uređaje) | C11: kom | D11: 1 | F11: =D11*E11 -> 0
A12: 5 | B12: Produžetak dimovoda 0,25 m (DN 80) (za kondenzacijske uređaje) | C12: kom | D12: 1 | F12: =D12*E12 -> 0
A13: 6 | B13: Produžetak dimovoda 2,0 m (DN 80) (za kondenzacijske uređaje) | C13: kom | D13: 5 | F13: =D13*E13 -> 0
A14: 7 | B14: Odstojnik ø 80 (7 komada) | C14: kom | D14: 1 | F14: =D14*E14 -> 0
A15: 8 | B15: Poklopac okna DN 80 PP (za kondenzacijske uređaje) | C15: kom | D15: 1 | F15: =D15*E15 -> 0
B16: Dimovod 2 - novi dimovod po fasadi
A17: 9 | B17: Osnovni priključni set, priključak na koncentrični dimovod za vođenje po fasadi, 80/125 (legirani čelik/PP), sastoji se od:
B18: - koncentričnog produžetka za provođenje kroz fasadu 80/125, s koljenom 87 °, legirani čelik
B19: - revizijskog T-komada (bijeli)
B20: - koncentričnog produžetka 80/125, 0,5 m, unutarnjeg
B21: - unutarnje rozete 125 mm, bijele
B22: - vanjske rozete 80/125, u dva dijela, legirani čelik
B23: - dvije obujmice, vanjske, legirani čelik
B24: - dvije obujmice 70 mm, bijele, unutarnje
B25: - završnog elementa
B26: - elementa za usis svježeg zraka, legirani čelik | C26: kom | D26: 1 | F26: =D26*E26 -> 0
A27: 10 | B27: Vanjska zidna potporna konzola 50 - 300 mm podesiva
B28: - legirani čelik | C28: kom | D28: 1 | F28: =D28*E28 -> 0
A29: 11 | B29: Koncentrični produžetak 80/125, 1,0 m (za kondenzacijske uređaje) | C29: kom | D29: 1 | F29: =D29*E29 -> 0
A30: 12 | B30: Razdijelni element 80/125 (za kondenzacijske uređaje) | C30: kom | D30: 1 | F30: =D30*E30 -> 0
A31: 13 | B31: Produžetak koncentrični za vođenje po fasadi 1,0 m PP/legirani čelik
B32: - uključene obujmice | C32: kom | D32: 8 | F32: =D32*E32 -> 0
A33: 14 | B33: Revizijski otvor 0,25 m, koncentrični, na vanjskom dijelu, 80/125 PP/legirani čelik | C33: kom | D33: 1 | F33: =D33*E33 -> 0
A34: 15 | B34: Zidni držač 50 do 90 mm, legirani čelik | C34: kom | D34: 8 | F34: =D34*E34 -> 0
A35: 16 | B35: Ugradnja svih gore navedenih stavki dimnjaka. U cijeni montaže treba predvidjeti i sve potrebne skele, fiksne i pomične za rad na visini, sukladno postojećim propisima. | C35: kpl | D35: 1 | F35: =E35*D35 -> 0
A36: 17 | B36: Pregled dimnjaka uz izdavanje atesta | C36: kpl | D36: 1 | F36: =E36*D36 -> 0
B37: UKUPNO DIMNJAK | F37: =SUM(F31:F36) -> 0

Sheet REKAPITULACIJA
B1: REKAPITULACIJA
A2: Poz | B2: Opis
A3: 1 | B3: ='DEMONTAŽNO PRIPREMNI RADOVI'!B1:F1 -> DEMONTAŽNO PRIPREMNI RADOVI | C3: ='DEMONTAŽNO PRIPREMNI RADOVI'!F9 -> 0
A4: 2 | B4: =GRIJANJE!B1 -> GRIJANJE | C4: =GRIJANJE!F202 -> 0
A5: 3 | B5: DIMNJAK | C5: ='SANACIJA DIMNJAKA'!F37 -> 0
B7: Ukupno bez PDV-a | C7: =SUM(C3:C5) -> 0
B9: PDV 25% | C9: =C7*0.25 -> 0
B11: Ukupno sa PDV-om | C11: =C7+C9 -> 0
